BEGIN:VCALENDAR
VERSION:2.0
PRODID:-//hacksw/handcal//NONSGML v1.0//EN
BEGIN:VEVENT
SUMMARY:France Doubles 2022
UID:e201f9ec-d461-4986-896b-aa06cf91b13e
DTSTART:20220701T140000Z
DTEND:20220703T010000Z
LOCATION:Comite Bouliste de l'Ain 128 impasse des essartis 01000 Saint Denis les Bourg
CATEGORIES:Sportif
STATUS:
URL;VALUE=URI:https://www.sport-boules01.com/evenements/2022/07/01/france-doubles-2022-1640697
END:VEVENT
BEGIN:VEVENT
SUMMARY:Masters U13 et U15/U18
UID:7122c510-f4a3-47d3-bc32-cd171fde53e8
DTSTART:20221002T070000Z
DTEND:20221002T100000Z
LOCATION:Localisation Boulodrome de Meximieux  Meximieux
CATEGORIES:Sportif
STATUS:
DESCRIPTION:<p>Premiere etape des Masters sous sa nouvelle
 configuration avec un classement U13 et un autre
 U15/U18!</p>
 
 <p>Limitation a 16 participants (8 et 8)</p>
 
URL;VALUE=URI:https://www.sport-boules01.com/evenements/2022/10/02/masters-u13-et-u15u18-1675149
END:VEVENT
BEGIN:VEVENT
SUMMARY:Championnat de l'Ain Simples Jeunes G18, U15, U13 a Seyssel
UID:f482de28-7eb8-409b-b656-6521edcc7d2c
DTSTART:20230521T060000Z
DTEND:20230521T160000Z
LOCATION:Localisation   
CATEGORIES:Sportif
STATUS:
URL;VALUE=URI:https://www.sport-boules01.com/evenements/2023/05/21/championnat-de-lain-simples-jeunes-g18-u15-u13-a-seyssel-1807753
END:VEVENT
BEGIN:VEVENT
SUMMARY:FEDERAL AIN DOUBLES JEUNES U15/U18
UID:8af87d9b-b0ad-40dc-982a-b74e43f20b4b
DTSTART:20230611T063000Z
DTEND:20230611T160000Z
LOCATION:Localisation rue du stade 01320 Chalamont
CATEGORIES:Sportif
STATUS:
DESCRIPTION:<p>Championnat Ain Doubles U15/U18</p>
 
 <p>Mixite
 autorise</p>
 
 <p>U13 deuxieme annee peut jouer en U15 avec un
 surclassement</p>
 
 <p>Possibilite de jouer a 3</p>
 
URL;VALUE=URI:https://www.sport-boules01.com/evenements/2023/06/11/federal-ain-doubles-jeunes-u15u18-1810560
END:VEVENT
BEGIN:VEVENT
SUMMARY:Etape 3 des Masters U13/U15/U18
UID:576a8032-fdf7-4e46-ba6c-cc78390d4333
DTSTART:20230618T070000Z
DTEND:20230618T100000Z
LOCATION:Localisation   
CATEGORIES:Sportif
STATUS:
URL;VALUE=URI:https://www.sport-boules01.com/evenements/2023/06/18/etape-3-des-masters-u13u15u18-1810567
END:VEVENT
BEGIN:VEVENT
SUMMARY:Finales Tour de l'Ain 2023
UID:3f1a2401-d7ed-44c2-97e5-d0a4c6429d71
DTSTART:20230618T073000Z
DTEND:20230618T103000Z
LOCATION:Comite Bouliste de l'Ain 128 impasse des essartis 01000 Saint Denis les Bourg
CATEGORIES:Sportif
STATUS:
DESCRIPTION:<p>Finales du tour de l'Ain sous forme de plateaux en
 fonction des resultats obtenus sur les 3 etapes
 precedentes:</p>
 
 <p>- plateau "Excellence"</p>
 
 <p>- plateau
 "Honneur"</p>
 
 <p>- plateau "Developpement"</p>
 
URL;VALUE=URI:https://www.sport-boules01.com/evenements/2023/06/18/finales-tour-de-lain-2023-1817162
END:VEVENT
BEGIN:VEVENT
SUMMARY:Masters U13 et U15/U18
UID:67ab06df-dba7-4a8d-b999-1e5b48053359
DTSTART:20231008T070000Z
DTEND:20231008T103000Z
LOCATION:Localisation Complexe sportif de Montfray  Fareins
CATEGORIES:Sportif
STATUS:
DESCRIPTION:<p>Etape 1 des Masters limitee a 16 participants</p>
 
URL;VALUE=URI:https://www.sport-boules01.com/evenements/2023/10/08/masters-u13-et-u15u18-1881049
END:VEVENT
BEGIN:VEVENT
SUMMARY:Formation Entraineurs niveau departemental (jeunes + clubs departementaux)
UID:2439729b-50b0-4c80-a130-0076ac6c5e77
DTSTART:20231021T070000Z
DTEND:20231021T100000Z
LOCATION:Localisation 128 impasse des essartis 01000 Saint Denis les Bourg
CATEGORIES:Sportif
STATUS:
DESCRIPTION:<p>A l’aube de cette nouvelle saison, nous vous
 proposons de venir nous rejoindre sur une premiere matinee consacree
 a l’entrainement de collectif. </p>
 
 <p> </p>
 
 <p>Vous etes
 benevoles en charge d’un collectif jeunes/ feminin/ masculins ,
 initiateurs desirant en savoir toujours plus, ou tout simplement
 curieux de notre activite, alors cette matinee est pour
 vous!</p>
 
 <p> </p>
 
 <p>L’objectif consiste, a travers les
 epreuves retrouvees dans le championnat des clubs de niveau
 departemental, a analyser ces dernieres et y placer un contenu en
 face.</p>
 
URL;VALUE=URI:https://www.sport-boules01.com/evenements/2023/10/21/formation-entraineurs-niveau-departemental-jeunes-clubs-departementaux-1889021
END:VEVENT
BEGIN:VEVENT
SUMMARY:Multi 1 categories U13 / U15 / U18
UID:c651b263-b377-45e0-940a-396326443472
DTSTART:20231112T080000Z
DTEND:20231112T113000Z
LOCATION:Localisation Compexe sportif Montfray  01480 Fareins
CATEGORIES:Sportif
STATUS:
URL;VALUE=URI:https://www.sport-boules01.com/evenements/2023/11/12/multi-1-categories-u13-u15-u18-1909421
END:VEVENT
BEGIN:VEVENT
SUMMARY:Tour de l'Ain - Etape 1
UID:db86d5b1-f2d0-48c1-8988-0c169b5a0ba7
DTSTART:20231126T123000Z
DTEND:20231126T153000Z
LOCATION:Localisation 126b impasse des essartis 01000 saint denis les bourg
CATEGORIES:Sportif
STATUS:
URL;VALUE=URI:https://www.sport-boules01.com/evenements/2023/11/26/tour-de-lain-etape-1-1920851
END:VEVENT
BEGIN:VEVENT
SUMMARY:Stage U9/U11 - Module efficacite
UID:be8c3e96-a9a4-482a-86cb-f2ab151211bc
DTSTART:20231226T090000Z
DTEND:20231226T110000Z
LOCATION:Localisation 126 Allee des Essartis 01000 St Denis les Bourg
CATEGORIES:Sportif
STATUS:
URL;VALUE=URI:https://www.sport-boules01.com/evenements/2023/12/26/stage-u9u11-module-efficacite-1937912
END:VEVENT
BEGIN:VEVENT
SUMMARY:Stage U13 a l'Astroboules
UID:54127f82-2697-44dd-bdc2-ecd917a3c3c7
DTSTART:20231227T090000Z
DTEND:20231227T110000Z
LOCATION:Localisation 126 impasse des essartis 01000 saint denis les bourg
CATEGORIES:Sportif
STATUS:
URL;VALUE=URI:https://www.sport-boules01.com/evenements/2023/12/27/stage-u13-a-lastroboules-1937916
END:VEVENT
BEGIN:VEVENT
SUMMARY:Stage U15/U18 a Saint-Vulbas (sous reserve du nombre de participants)
UID:d8936c20-1b0b-44a7-88c3-0a7e5b28f238
DTSTART:20231229T083000Z
DTEND:20231229T110000Z
LOCATION:Localisation 1558 Rue claires fontaines 01150 Saint-vulbas
CATEGORIES:Sportif
STATUS:
URL;VALUE=URI:https://www.sport-boules01.com/evenements/2023/12/29/stage-u15u18-a-saint-vulbas-sous-reserve-du-nombre-de-participants-1937917
END:VEVENT
BEGIN:VEVENT
SUMMARY:Cours collectif de tir a Fareins le 15 Janvier a 19h00
UID:c13ccfc5-81d2-4b30-a83b-2f9d786d36b5
DTSTART:20240115T180000Z
DTEND:20240115T193000Z
LOCATION:Localisation complexe montfray 01480 Fareins
CATEGORIES:Sportif
STATUS:
DESCRIPTION:<p>Cours collectif reserve dans un premier temps aux
 licencies du secteur 6. Il est propose au prix de 10€ pour 90' de
 seance.</p>
 
 <p>Destine aux licencies desirant se perfectionner ou
 tout simplement souhaitant s'entrainer, vous serez encadre par notre
 conseiller technique sportif, titulaire du brevet d'etat 2eme
 degre.</p>
 
 <p>Il est recommande de prevoir une tenue de sport
 adaptee, une bouteille d'eau et serviette (aleatoire).</p>
 
 <p>Ce
 cours n'est pas recommande aux personnes presentant des troubles
 cardiaques ni aux personnes ne pouvant se deplacer en
 trottinant.</p>
 
 <p>En effet l'action motrice travaillee etant le
 tir, il est necessaire de pouvoir se mouvoir au minimum en
 trottinant.</p>
 
URL;VALUE=URI:https://www.sport-boules01.com/evenements/2024/01/15/cours-collectif-de-tir-a-fareins-le-15-janvier-a-19h00-1938337
END:VEVENT
BEGIN:VEVENT
SUMMARY:Tour de l'Ain U9/U11 - Etape 2
UID:c2883bf9-f8af-4527-9bf7-7963e793147b
DTSTART:20240128T123000Z
DTEND:20240128T153000Z
LOCATION:Localisation Boule du longevent 01800 Perouges
CATEGORIES:Sportif
STATUS:
URL;VALUE=URI:https://www.sport-boules01.com/evenements/2024/01/28/tour-de-lain-u9u11-etape-2-1954556
END:VEVENT
BEGIN:VEVENT
SUMMARY:Multi epreuves du 4 fevrier 2024 a Oyonnax
UID:87d4e4ff-36d3-488b-a0f0-3319eec08134
DTSTART:20240204T080000Z
DTEND:20240204T113000Z
LOCATION:Localisation 86 Rue Jules Michelet 01100 Oyonnax
CATEGORIES:Sportif
STATUS:
URL;VALUE=URI:https://www.sport-boules01.com/evenements/2024/02/04/multi-epreuves-du-4-fevrier-2024-a-oyonnax-1959597
END:VEVENT
BEGIN:VEVENT
SUMMARY:Qualificatifs Combine U15/U18
UID:ea9b9576-bfc5-40ad-b2d1-b31be345233a
DTSTART:20240211T080000Z
DTEND:20240211T114500Z
LOCATION:Localisation complexe sportif montfray 01480 Fareins
CATEGORIES:Sportif
STATUS:
URL;VALUE=URI:https://www.sport-boules01.com/evenements/2024/02/11/qualificatifs-combine-u15u18-1964087
END:VEVENT
BEGIN:VEVENT
SUMMARY:Stage physique U9/U11 a l'Astroboules
UID:7d1c5bbc-09a1-4f98-9bfa-0b2695555b1a
DTSTART:20240219T090000Z
DTEND:20240219T110000Z
LOCATION:Localisation Complexe sportif de l'Astroboules 01000 128 Allee des essartis 
CATEGORIES:Sportif
STATUS:
URL;VALUE=URI:https://www.sport-boules01.com/evenements/2024/02/19/stage-physique-u9u11-a-lastroboules-1970302
END:VEVENT
BEGIN:VEVENT
SUMMARY:Stage physique U13 a l'Astroboules 
UID:b8194fd8-3135-4050-9452-db64e605f44d
DTSTART:20240220T090000Z
DTEND:20240220T110000Z
LOCATION:Localisation 128 Allee des essartis  01000 St Denis les bourg
CATEGORIES:Sportif
STATUS:
URL;VALUE=URI:https://www.sport-boules01.com/evenements/2024/02/20/stage-physique-u13-a-lastroboules-1970305
END:VEVENT
BEGIN:VEVENT
SUMMARY:Stage U15/U18 a Meximieux
UID:77963e5b-4625-42b2-b5e4-47ef8b14e115
DTSTART:20240222T083000Z
DTEND:20240222T153000Z
LOCATION:Localisation Boulodrome de Meximieux  01800 Perouges
CATEGORIES:Sportif
STATUS:
URL;VALUE=URI:https://www.sport-boules01.com/evenements/2024/02/22/stage-u15u18-a-meximieux-1970309
END:VEVENT
BEGIN:VEVENT
SUMMARY:Tour de l'Ain U9/U11 - Etape 3
UID:33faeec1-31d1-4dad-96b0-d01556b859e1
DTSTART:20240303T123000Z
DTEND:20240303T153000Z
LOCATION:Localisation 128 impasse des essartis 01000 St Denis les Bourg
CATEGORIES:Sportif
STATUS:
URL;VALUE=URI:https://www.sport-boules01.com/evenements/2024/03/03/tour-de-lain-u9u11-etape-3-1974866
END:VEVENT
BEGIN:VEVENT
SUMMARY:Stage U13 a l'ASTROBOULES
UID:c6e52fa2-457a-455b-bbf5-82ae701515fd
DTSTART:20240416T080000Z
DTEND:20240416T100000Z
LOCATION:Comite Bouliste de l'Ain 128 impasse des essartis 01000 Saint Denis les Bourg
CATEGORIES:Sportif
STATUS:
URL;VALUE=URI:https://www.sport-boules01.com/evenements/2024/04/16/stage-u13-a-lastroboules-1996644
END:VEVENT
BEGIN:VEVENT
SUMMARY:Stage U9/U11 - module strategique
UID:c325e37a-3eb1-45f7-bd6c-1422ff48103f
DTSTART:20240417T080000Z
DTEND:20240417T100000Z
LOCATION:Comite Bouliste de l'Ain 128 impasse des essartis 01000 Saint Denis les Bourg
CATEGORIES:Sportif
STATUS:
DESCRIPTION:<p>Stage U9/U11, le 4eme, visant a evaluer le projet de
 jeu de l'enfant.</p>
 
URL;VALUE=URI:https://www.sport-boules01.com/evenements/2024/04/17/stage-u9u11-module-strategique-1996648
END:VEVENT
BEGIN:VEVENT
SUMMARY:Stage U15/U18 - epreuves traditionnelles
UID:043518e2-0c06-4be8-ad98-99b0db22ca49
DTSTART:20240418T073000Z
DTEND:20240418T143000Z
LOCATION:Comite Bouliste de l'Ain 128 impasse des essartis 01000 Saint Denis les Bourg
CATEGORIES:Sportif
STATUS:
DESCRIPTION:<p>Stage U15/U18 se deroulant a la journee si il y a plus
 de 8 inscriptions dans le cas contraire 9h30 - 12h</p>
 
URL;VALUE=URI:https://www.sport-boules01.com/evenements/2024/04/18/stage-u15u18-epreuves-traditionnelles-1996664
END:VEVENT
BEGIN:VEVENT
SUMMARY:Etape 2 des Masters U13/U15/U18
UID:1c48fa23-0a65-4b02-aff2-6dad7f08c19a
DTSTART:20240428T073000Z
DTEND:20240428T100000Z
LOCATION:Localisation  01800 Meximieux
CATEGORIES:Sportif
STATUS:
URL;VALUE=URI:https://www.sport-boules01.com/evenements/2024/04/28/etape-2-des-masters-u13u15u18-2000734
END:VEVENT
BEGIN:VEVENT
SUMMARY:Inscriptions Championnat de l'Ain simples Jeunes 
UID:deb16698-cc5f-4e76-8a1e-2f1e40b4ce3d
DTSTART:20240525T220000Z
DTEND:20240526T220000Z
LOCATION:Localisation 426 CHEMIN DE LA FERME 01160 PONT D'AIN
CATEGORIES:Sportif
STATUS:
URL;VALUE=URI:https://www.sport-boules01.com/evenements/2024/05/26/inscriptions-championnat-de-lain-simples-jeunes-2005623
END:VEVENT
BEGIN:VEVENT
SUMMARY:Tour de l'Ain - Etape finale
UID:22bbc294-78de-4ed8-b46e-0f5952e3a449
DTSTART:20240623T070000Z
DTEND:20240623T100000Z
LOCATION:Comite Bouliste de l'Ain 128 impasse des essartis 01000 Saint Denis les Bourg
CATEGORIES:Sportif
STATUS:
URL;VALUE=URI:https://www.sport-boules01.com/evenements/2024/06/23/tour-de-lain-etape-finale-2018910
END:VEVENT
BEGIN:VEVENT
SUMMARY:Masters U13 et U15/U18
UID:625384c6-5c13-491e-9fc4-741c2e2f5e8a
DTSTART:20240623T070000Z
DTEND:20240623T100000Z
LOCATION:Comite Bouliste de l'Ain 128 impasse des essartis 01000 Saint Denis les Bourg
CATEGORIES:Sportif
STATUS:
URL;VALUE=URI:https://www.sport-boules01.com/evenements/2024/06/23/masters-u13-et-u15u18-2018901
END:VEVENT
BEGIN:VEVENT
SUMMARY:Multi Combine U15/U18
UID:555a170b-8c1b-477d-bbea-04064c747cb3
DTSTART:20240922T070000Z
DTEND:20240922T103000Z
LOCATION:Localisation La Boule du Longevent 01800 Perouges
CATEGORIES:Sportif
STATUS:
URL;VALUE=URI:https://www.sport-boules01.com/evenements/2024/09/22/multi-combine-u15u18-2071475
END:VEVENT
BEGIN:VEVENT
SUMMARY:Masters U13 a U18 - Etape 1
UID:0186070a-839d-441d-8355-bb2abcfeaf45
DTSTART:20241006T070000Z
DTEND:20241006T100000Z
LOCATION:Localisation Centre international de rencontres 1558 rue Claires Fontaines 01150 Saint Vulbas
CATEGORIES:Sportif
STATUS:
URL;VALUE=URI:https://www.sport-boules01.com/evenements/2024/10/06/masters-u13-a-u18-etape-1-2095821
END:VEVENT
BEGIN:VEVENT
SUMMARY:Stage U9/U11 "Boules d'apprentissage" - Module technique
UID:305ca4ff-d84e-48b9-a7cb-78b6ed67e205
DTSTART:20241021T080000Z
DTEND:20241021T100000Z
LOCATION:Comite Bouliste de l'Ain 128 impasse des essartis 01000 Saint Denis les Bourg
CATEGORIES:Sportif
STATUS:
URL;VALUE=URI:https://www.sport-boules01.com/evenements/2024/10/21/stage-u9u11-boules-dapprentissage-module-technique-2105123
END:VEVENT
BEGIN:VEVENT
SUMMARY:Stage U13 a U18 - vacances Toussaint
UID:e92d55ff-327b-41db-9d1d-9502fc92ab95
DTSTART:20241022T080000Z
DTEND:20241022T140000Z
LOCATION:Localisation 1558 Rue Claires Fontaines 01150 Saint-Vulbas
CATEGORIES:Sportif
STATUS:
URL;VALUE=URI:https://www.sport-boules01.com/evenements/2024/10/22/stage-u13-a-u18-vacances-toussaint-2105129
END:VEVENT
BEGIN:VEVENT
SUMMARY:Multi combine U15/U18 du 3 novembre 2024
UID:ebfd8fae-5bd6-4125-8a84-f27eed96cb26
DTSTART:20241103T080000Z
DTEND:20241103T114500Z
LOCATION:Localisation 1558 Rue Claires Fontaines 01150 Sain-vulbas
CATEGORIES:Sportif
STATUS:
URL;VALUE=URI:https://www.sport-boules01.com/evenements/2024/11/03/multi-combine-u15u18-du-3-novembre-2024-2105134
END:VEVENT
BEGIN:VEVENT
SUMMARY:Multi 1 : tir de precision (2) et tir sportif (1)
UID:a8fb4879-18ce-4a33-8f00-06a819af73cf
DTSTART:20241124T080000Z
DTEND:20241124T113000Z
LOCATION:Localisation 1558 Rue Claires Fontaines 01150 Saint-Vulbas
CATEGORIES:Sportif
STATUS:
URL;VALUE=URI:https://www.sport-boules01.com/evenements/2024/11/24/multi-1-tir-de-precision-2-et-tir-sportif-1-2105262
END:VEVENT
BEGIN:VEVENT
SUMMARY:Tour de l'Ain U9/U11 : etape 1
UID:d6375aee-0f65-48c0-88f9-5c12fc30dccf
DTSTART:20241124T123000Z
DTEND:20241124T160000Z
LOCATION:Localisation Boulodrome Meximieux route de lyon  Perouges
CATEGORIES:Sportif
STATUS:
URL;VALUE=URI:https://www.sport-boules01.com/evenements/2024/11/24/tour-de-lain-u9u11-etape-1-2105263
END:VEVENT
BEGIN:VEVENT
SUMMARY:Stage U13/U15/U18
UID:8e8bc2f9-e090-433f-9ff7-dcc5ae975d93
DTSTART:20241223T130000Z
DTEND:20241223T170000Z
LOCATION:Localisation Centre international de rencontres  saint vulbas
CATEGORIES:Sportif
STATUS:
URL;VALUE=URI:https://www.sport-boules01.com/evenements/2024/12/23/stage-u13u15u18-2146394
END:VEVENT
BEGIN:VEVENT
SUMMARY:Stage U9/U11 - Module "efficacite"
UID:9200b07a-badc-4447-a2ac-75a51a68d158
DTSTART:20241224T090000Z
DTEND:20241224T110000Z
LOCATION:Comite Bouliste de l'Ain 128 impasse des essartis 01000 Saint Denis les Bourg
CATEGORIES:Sportif
STATUS:
URL;VALUE=URI:https://www.sport-boules01.com/evenements/2024/12/24/stage-u9u11-module-efficacite-2105267
END:VEVENT
BEGIN:VEVENT
SUMMARY:Multi 2 pour les U13/U15/U18 a Oyonnax
UID:38648691-b23f-4458-9ff8-da74afc34abe
DTSTART:20250105T080000Z
DTEND:20250105T113000Z
LOCATION:Localisation boulodrome Oyonnax  Oyonnax
CATEGORIES:Sportif
STATUS:
URL;VALUE=URI:https://www.sport-boules01.com/evenements/2025/01/05/multi-2-pour-les-u13u15u18-a-oyonnax-2146398
END:VEVENT
BEGIN:VEVENT
SUMMARY:Cours collectif a Fareins 
UID:3eeae7bd-2d81-4e55-b11a-3fc8f5b9d082
DTSTART:20250120T180000Z
DTEND:20250120T193000Z
LOCATION:Localisation MONTFRAY SPORTS  Fareins
CATEGORIES:Sportif
STATUS:
URL;VALUE=URI:https://www.sport-boules01.com/evenements/2025/01/20/cours-collectif-a-fareins-2146374
END:VEVENT
BEGIN:VEVENT
SUMMARY:MULTI 3 U13/U15/U18
UID:a035ab60-a7cc-437d-a81a-3d0529e70c8f
DTSTART:20250202T080000Z
DTEND:20250202T113000Z
LOCATION:Localisation Boulodrome Intercommunal Charles Boyer Pre Penet  01380 DOMMARTIN
CATEGORIES:Sportif
STATUS:
URL;VALUE=URI:https://www.sport-boules01.com/evenements/2025/02/02/multi-3-u13u15u18-2177579
END:VEVENT
BEGIN:VEVENT
SUMMARY:Tour de l'Ain U9/U11
UID:5aa24ff9-a5e4-4899-9d41-e0c6c83814b6
DTSTART:20250202T123000Z
DTEND:20250202T153000Z
LOCATION:Localisation Boulodrome intercommunal Charles Boyer Pre Prenet  01380 DOMMARTIN
CATEGORIES:Sportif
STATUS:
URL;VALUE=URI:https://www.sport-boules01.com/evenements/2025/02/02/tour-de-lain-u9u11-2177584
END:VEVENT
BEGIN:VEVENT
SUMMARY:Cours collectif a Fareins
UID:d7eb0af9-e1f9-4f87-97d6-155c966ffb9b
DTSTART:20250217T180000Z
DTEND:20250217T193000Z
LOCATION:Localisation MONTRAY SPORTS  FAREINS
CATEGORIES:Sportif
STATUS:
URL;VALUE=URI:https://www.sport-boules01.com/evenements/2025/02/17/cours-collectif-a-fareins-2146377
END:VEVENT
BEGIN:VEVENT
SUMMARY:Stage U9/U11 - Module physique
UID:a44a7a7a-f896-49e5-98d9-4bdcd8bdb969
DTSTART:20250224T090000Z
DTEND:20250224T110000Z
LOCATION:Localisation Boulodrome meximieux 01800 PEROUGES
CATEGORIES:Sportif
STATUS:
URL;VALUE=URI:https://www.sport-boules01.com/evenements/2025/02/24/stage-u9u11-module-physique-2187533
END:VEVENT
BEGIN:VEVENT
SUMMARY:Stage 3 des  U13/U15/U18
UID:f6091a6d-a56a-4fa1-a2db-06e89831e226
DTSTART:20250225T090000Z
DTEND:20250225T150000Z
LOCATION:Localisation Boulodrome de Meximieux 01800 PEROUGES
CATEGORIES:Sportif
STATUS:
URL;VALUE=URI:https://www.sport-boules01.com/evenements/2025/02/25/stage-3-des-u13u15u18-2187540
END:VEVENT
BEGIN:VEVENT
SUMMARY:Cours collectif a Fareins
UID:d9b1a2ed-3ba6-4a22-880e-c160e87bc1ad
DTSTART:20250317T180000Z
DTEND:20250317T193000Z
LOCATION:Localisation MONTFRAY SPORTS  FAREINS
CATEGORIES:Sportif
STATUS:
URL;VALUE=URI:https://www.sport-boules01.com/evenements/2025/03/17/cours-collectif-a-fareins-2146378
END:VEVENT
BEGIN:VEVENT
SUMMARY:Masters U13 et U15/U18 a Fareins
UID:5cf46131-e906-41a7-b007-67ff5d398e12
DTSTART:20250323T123000Z
DTEND:20250323T153000Z
LOCATION:Localisation complexe gymnase Montfray 01480 Fareins
CATEGORIES:Sportif
STATUS:
URL;VALUE=URI:https://www.sport-boules01.com/evenements/2025/03/23/masters-u13-et-u15u18-a-fareins-2200207
END:VEVENT
BEGIN:VEVENT
SUMMARY:3eme etape des Masters U13 et U15/U18
UID:55a6da70-dd9d-4c74-99b2-7023cec3f7b6
DTSTART:20250413T113000Z
DTEND:20250413T143000Z
LOCATION:Localisation 128 impasse des essartis 01000 Saint Denis les Bourg
CATEGORIES:Sportif
STATUS:
URL;VALUE=URI:https://www.sport-boules01.com/evenements/2025/04/13/3eme-etape-des-masters-u13-et-u15u18-2212686
END:VEVENT
BEGIN:VEVENT
SUMMARY:Tour de l'Ain - 3eme etape
UID:420d9086-9f3e-4679-8b36-d5858f61f00d
DTSTART:20250518T113000Z
DTEND:20250518T143000Z
LOCATION:Localisation 426 Chem. de la Ferme 01140 Pont d'Ain
CATEGORIES:Sportif
STATUS:
URL;VALUE=URI:https://www.sport-boules01.com/evenements/2025/05/18/tour-de-lain-3eme-etape-2223470
END:VEVENT
BEGIN:VEVENT
SUMMARY:Championnat de France Doubles mixtes 2025
UID:69ce6295-9954-4b18-a4c1-5a84d2381859
DTSTART:20250905T220000Z
DTEND:20250907T220000Z
LOCATION:Localisation Astroboules 01000 saint denis les bourg
CATEGORIES:Sportif
STATUS:
DESCRIPTION:<p style="margin-bottom:8px;text-align:justify;"><span
 style="font-size:28px;">Le Comite Bouliste Departemental de l'Ain est
 tres heureux de vous accueillir. Il vous souhaite la bienvenue, ainsi
 qu’une belle experience sportive et touristique.</span></p>
 
 <p
 style="text-align:justify;"><span style="font-size:28px;">Voici
 quelques informations pratiques pour faciliter votre arrivee et
 rendre votre sejour plus agreable.</span></p>
 
 <p
 style="text-align:justify;"><span
 style="color:#3498db;"><strong><span style="font-size:28px;">Vous
 trouverez ci-dessous les liens pour le telechargement de vos INFOS
 UTILES et pour la RESERVATION des repas.</span></strong></span></p>
 
URL;VALUE=URI:https://www.sport-boules01.com/evenements/2025/09/06/championnat-de-france-doubles-mixtes-2025-2244424
END:VEVENT
BEGIN:VEVENT
SUMMARY:Finales du Tour de l'Ain U9/U11
UID:c741ec8d-8488-4aef-a509-f3ec29c6bd62
DTSTART:20250907T080000Z
DTEND:20250907T103000Z
LOCATION:Comite Bouliste de l'Ain 128 impasse des essartis 01000 Saint Denis les Bourg
CATEGORIES:Sportif
STATUS:
URL;VALUE=URI:https://www.sport-boules01.com/evenements/2025/09/07/finales-du-tour-de-lain-u9u11-2259529
END:VEVENT
BEGIN:VEVENT
SUMMARY:Qualificatif combine U15/U18 - Etape 1
UID:2b23c799-fae3-4f11-a13c-680b0d900f11
DTSTART:20250928T063000Z
DTEND:20250928T110000Z
LOCATION:Localisation 1558 Rue Claires Fontaines 01500 Saint Vulbas
CATEGORIES:Sportif
STATUS:
URL;VALUE=URI:https://www.sport-boules01.com/evenements/2025/09/28/qualificatif-combine-u15u18-etape-1-2313389
END:VEVENT
BEGIN:VEVENT
SUMMARY:Multi 1 U13 a U18
UID:f709f18d-57a0-451d-bd91-9181748551da
DTSTART:20251012T070000Z
DTEND:20251012T110000Z
LOCATION:Comite Bouliste de l'Ain 128 impasse des essartis 01000 Saint Denis les Bourg
CATEGORIES:Sportif
STATUS:
URL;VALUE=URI:https://www.sport-boules01.com/evenements/2025/10/12/multi-1-u13-a-u18-2315680
END:VEVENT
BEGIN:VEVENT
SUMMARY:Stage U9/U11 - Boule d'apprentissage Module technique
UID:4faec790-7d21-4af0-810c-57272c1bca4d
DTSTART:20251020T080000Z
DTEND:20251020T100000Z
LOCATION:Localisation 1558 Rue Claires Fontaines 01500 saint vulbas
CATEGORIES:Sportif
STATUS:
URL;VALUE=URI:https://www.sport-boules01.com/evenements/2025/10/20/stage-u9u11-boule-dapprentissage-module-technique-2315696
END:VEVENT
BEGIN:VEVENT
SUMMARY:Stage U13 a U18
UID:ce766599-0bcf-41b5-bebf-e081ca4de3de
DTSTART:20251021T073000Z
DTEND:20251021T143000Z
LOCATION:Localisation 1558 Rue Claires Fontaines 01500 saint vulbas
CATEGORIES:Sportif
STATUS:
URL;VALUE=URI:https://www.sport-boules01.com/evenements/2025/10/21/stage-u13-a-u18-2315699
END:VEVENT
BEGIN:VEVENT
SUMMARY:Multi 2 U13 a U18 a Fareins
UID:97923a9a-a838-4119-9fa5-1b7a4619065f
DTSTART:20251102T080000Z
DTEND:20251102T120000Z
LOCATION:Localisation chemin des Granges, RD44, 01480 Fareins 01480 Fareins
CATEGORIES:Sportif
STATUS:
URL;VALUE=URI:https://www.sport-boules01.com/evenements/2025/11/02/multi-2-u13-a-u18-a-fareins-2334221
END:VEVENT
BEGIN:VEVENT
SUMMARY:Tour de l'Ain U9/U11 - Etape 1 a Fareins
UID:36e7a0aa-599a-4008-bf6c-9fdcae62aeb2
DTSTART:20251102T130000Z
DTEND:20251102T160000Z
LOCATION:Localisation chemin des Granges, RD44 01480 Fareins
CATEGORIES:Sportif
STATUS:
URL;VALUE=URI:https://www.sport-boules01.com/evenements/2025/11/02/tour-de-lain-u9u11-etape-1-a-fareins-2334223
END:VEVENT
BEGIN:VEVENT
SUMMARY:Assemblee Generale du comite de l'AIN
UID:0713bcb6-0b15-4e5f-b538-2c7ba996b475
DTSTART:20251123T070000Z
DTEND:20251123T120000Z
LOCATION:Localisation 3 AVENUE DU DOCTEUR BOYER 01800 MEXIMIEUX
CATEGORIES:Sportif
STATUS:
URL;VALUE=URI:https://www.sport-boules01.com/evenements/2025/11/23/assemblee-generale-du-comite-de-lain-2350788
END:VEVENT
BEGIN:VEVENT
SUMMARY:Multi combine - 2eme etape a Fareins
UID:738f978a-3a30-4401-b8df-d2e22ed522e5
DTSTART:20251130T073000Z
DTEND:20251130T113000Z
LOCATION:Localisation  chemin des Granges, RD44 01480 fareins
CATEGORIES:Sportif
STATUS:
URL;VALUE=URI:https://www.sport-boules01.com/evenements/2025/11/30/multi-combine-2eme-etape-a-fareins-2334229
END:VEVENT
BEGIN:VEVENT
SUMMARY:Codir
UID:1018a15f-4581-4c79-ac0d-251d16ee9f7b
DTSTART:20251218T170000Z
DTEND:20251218T193000Z
LOCATION:Comite Bouliste de l'Ain 128 impasse des essartis 01000 Saint Denis les Bourg
CATEGORIES:Sportif
STATUS:
URL;VALUE=URI:https://www.sport-boules01.com/evenements/2025/12/18/codir-2366918
END:VEVENT
BEGIN:VEVENT
SUMMARY:Stage U13 a U15
UID:99d5bde6-4775-4c0f-b10f-26b0a6c054ed
DTSTART:20251223T083000Z
DTEND:20251223T153000Z
LOCATION:Localisation Boulodrome meximieux, route de Lyon 01800 Perouges
CATEGORIES:Sportif
STATUS:
URL;VALUE=URI:https://www.sport-boules01.com/evenements/2025/12/23/stage-u13-a-u15-2366902
END:VEVENT
BEGIN:VEVENT
SUMMARY:Cours collectif de tir - Rives de Saone
UID:2f1fd0e5-4321-43e8-bc01-5bd51857c8ff
DTSTART:20260112T180000Z
DTEND:20260112T193000Z
LOCATION:Localisation Complexe sportif de Montfray, Chem. des Granges 01490 Fareins
CATEGORIES:Sportif
STATUS:
URL;VALUE=URI:https://www.sport-boules01.com/evenements/2026/01/12/cours-collectif-de-tir-rives-de-saone-2366924
END:VEVENT
BEGIN:VEVENT
SUMMARY:Cours collectif de tir - seance 2 Rives de Saone
UID:925ff132-05c1-4ca7-8d9d-b3685666f5ac
DTSTART:20260208T230000Z
DTEND:20260209T230000Z
LOCATION:Localisation Complexe sportif de Montfray, chemin des granges 01480 Fareins
CATEGORIES:Sportif
STATUS:
URL;VALUE=URI:https://www.sport-boules01.com/evenements/2026/02/09/cours-collectif-de-tir-seance-2-rives-de-saone-2366934
END:VEVENT
BEGIN:VEVENT
SUMMARY:Cours collectif de tir - seance 3 Rives de Saone
UID:21a82e32-e4f4-4fe2-a518-1e79f42c8165
DTSTART:20260309T180000Z
DTEND:20260309T193000Z
LOCATION:Localisation complexe de Montfray, chemin des granges 01480 Fareins
CATEGORIES:Sportif
STATUS:
URL;VALUE=URI:https://www.sport-boules01.com/evenements/2026/03/09/cours-collectif-de-tir-seance-3-rives-de-saone-2366936
END:VEVENT
END:VCALENDAR
