BEGIN:VCALENDAR
VERSION:2.0
PRODID:-//hacksw/handcal//NONSGML v1.0//EN
BEGIN:VEVENT
SUMMARY:Seance Boul'ensemble
UID:75dc6e9e-13c9-4809-bb66-ab0b049ded77
DTSTART:20260424T071500Z
DTEND:20260424T100000Z
LOCATION:Localisation boulodrome chateau gaillard 01500 
CATEGORIES:Sportif
STATUS:
URL;VALUE=URI:https://www.sport-boules01.com/evenements/2026/04/24/seance-boulensemble-2443018
END:VEVENT
END:VCALENDAR
