BEGIN:VCALENDAR
VERSION:2.0
PRODID:-//hacksw/handcal//NONSGML v1.0//EN
BEGIN:VEVENT
SUMMARY:Formation Arbitres locaux - secteur Dombes Saone
UID:d8240d06-4c46-4a8c-8162-d448bd450708
DTSTART:20260421T153000Z
DTEND:20260421T190000Z
LOCATION:Localisation Complexe sportif montfray chemin des Granges RD44 01480 Fareins
CATEGORIES:Sportif
STATUS:
DESCRIPTION:<p>Formation en deux soirees reservees aux associations
 sportives du secteur Dombes Saone</p>
URL;VALUE=URI:https://www.sport-boules01.com/evenements/2026/04/21/formation-arbitres-locaux-secteur-dombes-saone-2443015
END:VEVENT
END:VCALENDAR
