BEGIN:VCALENDAR
VERSION:2.0
PRODID:-//hacksw/handcal//NONSGML v1.0//EN
BEGIN:VEVENT
SUMMARY:Cours collectif a Ste Euphemie
UID:c1f79efb-cf2d-4ff6-8275-c34c074efde2
DTSTART:20260420T160000Z
DTEND:20260420T190000Z
LOCATION:Localisation   
CATEGORIES:Sportif
STATUS:
DESCRIPTION:<p>Cous collectif ouvert aux licencies du secteur
 6.</p>
 
 <p>Cours non ouvert a la reservation en ligne</p>
URL;VALUE=URI:https://www.sport-boules01.com/evenements/2026/04/20/cours-collectif-a-ste-euphemie-2443014
END:VEVENT
BEGIN:VEVENT
SUMMARY:Formation Arbitres locaux - secteur Dombes Saone
UID:d8240d06-4c46-4a8c-8162-d448bd450708
DTSTART:20260421T153000Z
DTEND:20260421T190000Z
LOCATION:Localisation Complexe sportif montfray chemin des Granges RD44 01480 Fareins
CATEGORIES:Sportif
STATUS:
DESCRIPTION:<p>Formation en deux soirees reservees aux associations
 sportives du secteur Dombes Saone</p>
URL;VALUE=URI:https://www.sport-boules01.com/evenements/2026/04/21/formation-arbitres-locaux-secteur-dombes-saone-2443015
END:VEVENT
BEGIN:VEVENT
SUMMARY:Formation Initiateurs a Vandeins
UID:bb771d0c-864e-4a7e-938f-cf9d4267b8bf
DTSTART:20260423T160000Z
DTEND:20260423T190000Z
LOCATION:Localisation Vandeins 01 
CATEGORIES:Sportif
STATUS:
DESCRIPTION:<p>Premiere des 4 soirees reservees a la formation
 d'initiateurs sur l'association de Vandeins</p>
URL;VALUE=URI:https://www.sport-boules01.com/evenements/2026/04/23/formation-initiateurs-a-vandeins-2443016
END:VEVENT
BEGIN:VEVENT
SUMMARY:Seance Boul'ensemble
UID:75dc6e9e-13c9-4809-bb66-ab0b049ded77
DTSTART:20260424T071500Z
DTEND:20260424T100000Z
LOCATION:Localisation boulodrome chateau gaillard 01500 
CATEGORIES:Sportif
STATUS:
URL;VALUE=URI:https://www.sport-boules01.com/evenements/2026/04/24/seance-boulensemble-2443018
END:VEVENT
BEGIN:VEVENT
SUMMARY:Phases finales Club Avenir 2026
UID:b1b51be4-566b-47f5-a32c-de66954e8359
DTSTART:20260426T070000Z
DTEND:20260426T100000Z
LOCATION:Localisation Boulodrome Chalamont 01 Chalamont
CATEGORIES:Sportif
STATUS:
DESCRIPTION:<p>Demi-finales et finale du championnat des clubs Avenir
 2026</p>
URL;VALUE=URI:https://www.sport-boules01.com/evenements/2026/04/26/phases-finales-club-avenir-2026-2443019
END:VEVENT
BEGIN:VEVENT
SUMMARY:Masters U13 et U15/U18
UID:01ab2fb2-c6f2-4c24-9c36-6f96752c3264
DTSTART:20260426T120000Z
DTEND:20260426T150000Z
LOCATION:Localisation Chalamont 01 
CATEGORIES:Sportif
STATUS:
URL;VALUE=URI:https://www.sport-boules01.com/evenements/2026/04/26/masters-u13-et-u15u18-2443012
END:VEVENT
END:VCALENDAR
